BEGIN:VCALENDAR
VERSION:2.0
PRODID:-//Talarföreningen NSA Sweden - ECPv6.15.20//NONSGML v1.0//EN
CALSCALE:GREGORIAN
METHOD:PUBLISH
X-WR-CALNAME:Talarföreningen NSA Sweden
X-ORIGINAL-URL:https://talarforeningen.com
X-WR-CALDESC:Händelser för Talarföreningen NSA Sweden
REFRESH-INTERVAL;VALUE=DURATION:PT1H
X-Robots-Tag:noindex
X-PUBLISHED-TTL:PT1H
BEGIN:VTIMEZONE
TZID:Europe/Paris
BEGIN:DAYLIGHT
TZOFFSETFROM:+0100
TZOFFSETTO:+0200
TZNAME:CEST
DTSTART:20210328T010000
END:DAYLIGHT
BEGIN:STANDARD
TZOFFSETFROM:+0200
TZOFFSETTO:+0100
TZNAME:CET
DTSTART:20211031T010000
END:STANDARD
BEGIN:DAYLIGHT
TZOFFSETFROM:+0100
TZOFFSETTO:+0200
TZNAME:CEST
DTSTART:20220327T010000
END:DAYLIGHT
BEGIN:STANDARD
TZOFFSETFROM:+0200
TZOFFSETTO:+0100
TZNAME:CET
DTSTART:20221030T010000
END:STANDARD
BEGIN:DAYLIGHT
TZOFFSETFROM:+0100
TZOFFSETTO:+0200
TZNAME:CEST
DTSTART:20230326T010000
END:DAYLIGHT
BEGIN:STANDARD
TZOFFSETFROM:+0200
TZOFFSETTO:+0100
TZNAME:CET
DTSTART:20231029T010000
END:STANDARD
BEGIN:DAYLIGHT
TZOFFSETFROM:+0100
TZOFFSETTO:+0200
TZNAME:CEST
DTSTART:20240331T010000
END:DAYLIGHT
BEGIN:STANDARD
TZOFFSETFROM:+0200
TZOFFSETTO:+0100
TZNAME:CET
DTSTART:20241027T010000
END:STANDARD
END:VTIMEZONE
BEGIN:VTIMEZONE
TZID:UTC
BEGIN:STANDARD
TZOFFSETFROM:+0000
TZOFFSETTO:+0000
TZNAME:UTC
DTSTART:20210101T000000
END:STANDARD
END:VTIMEZONE
BEGIN:VEVENT
DTSTART;VALUE=DATE:20230129
DTEND;VALUE=DATE:20230131
DTSTAMP:20260420T181131
CREATED:20221116T042920Z
LAST-MODIFIED:20221201T012717Z
UID:2912-1674950400-1675123199@talarforeningen.com
SUMMARY:Konvent 2023 (Öppet för alla)
DESCRIPTION:Vartannat år anordnas Talarföreningen konvent\, föreningens största mötesplats för talarbranschen. Här erbjuds två dagar sprängfyllda av nätverkande\, en underhållande middag och över trettio talare på scenen.  \nTemat för 2023 är IMPACT och tillsammans lyfter vi hur talare\, moderatorer och utbildare ger skillnad för ledare\, medarbetare\, grupper\, organisationer och samhället. \nEventet är öppet för alla och till självkostnadspris får du tillgång till magisk plats där du kan träffa branschkollegor\, talarförmedlingar och inköpare. \nBegränsat antal platser\, först till kvarn. Boka in datumen redan nu\, mer info kommer! \nFör frågor\, mejla projektledaren asa@asasandberg.com
URL:https://talarforeningen.com/events/konvent-2023/
CATEGORIES:Öppet för alla
ATTACH;FMTTYPE=image/jpeg:https://talarforeningen.com/wp-content/uploads/2022/11/TF.jpg
END:VEVENT
BEGIN:VEVENT
DTSTART;TZID=Europe/Paris:20221208T140000
DTEND;TZID=Europe/Paris:20221208T160000
DTSTAMP:20260420T181131
CREATED:20221116T042210Z
LAST-MODIFIED:20221121T012130Z
UID:2909-1670508000-1670515200@talarforeningen.com
SUMMARY:Julevent: Go International! (Öppet för alla)
DESCRIPTION:Är du talare eller moderator och vill få inspiration kring hur du kan jobba mer utomlands?  \nDå är detta ett event för dig! Öppet för såväl medlemmar som andra nyfikna talare\, facilatorer\, moderatorer\, utbildare och talarförmedlare.  \n8 december ses vi för ett kompetensevent och en julfest i slottsmiljö! \n14.00-16.00 En hybrid eftermiddag med temat Go international. Medlemmar från föreningen delar med sig av sina strategier och personliga erfarenheter av att nå ut internationellt. Antoni Lacinai\, en internationell gäst mfl medverkar. 16.00-17.30 Eventet övergår till fysisk form. Fri tid och mingel i baren. De som bor på slottet kan checka in. Ev kommer det finnas möjlighet att testa yoga. \n17.30 Fördrink och julinspirerad trerätters. Musikquizz\, härliga samtal och dans. Juleventet är öppet även för potentiell medlemmar och andra i branschen! Känner du någon du tror vill komma\, välkommen att bjuda in! \nIntresserad av att veta mer eller anmäla dig? Mejla malin@malinwinberg.se
URL:https://talarforeningen.com/events/julevent-go-international/
CATEGORIES:Öppet för alla
ATTACH;FMTTYPE=image/jpeg:https://talarforeningen.com/wp-content/uploads/2022/11/xmas.jpg
END:VEVENT
BEGIN:VEVENT
DTSTART;TZID=UTC:20221121T000000
DTEND;TZID=UTC:20230310T133000
DTSTAMP:20260420T181131
CREATED:20221116T043314Z
LAST-MODIFIED:20221121T012239Z
UID:2915-1668988800-1678455000@talarforeningen.com
SUMMARY:Vilket arvode? Låt oss prata kronor och ören! (Endast för medlemmar)
DESCRIPTION:Välkommen till ett erfarenhetsutbyte. Hur tar vi betalt för det värde vi skapar till våra kunder och samhället?  \nVad ska du ta betalt för en timmes uppdrag\, återkommande workshops\, moderatorsuppdrag\, digitala kurser\, eller uppdrag över längre tid. Hur ser din prismodell ut? När är det dags att höja priset och finns det något tillfälle då det passar att ge mängdrabatt? Låt oss prata kronor och ören! Vi delar prismodeller och inspireras av varandra på detta interna event som endast är öppet för medlemmar. \nMötet sker via Zoom. \nIntresserad av att veta mer eller anmäla dig? \nMejla mail@carolinemohr.eu
URL:https://talarforeningen.com/events/vilket-arvode-lat-oss-prata-kronor-och-oren/
CATEGORIES:Endast för medlemmar
ATTACH;FMTTYPE=image/jpeg:https://talarforeningen.com/wp-content/uploads/2022/11/CarolineMohr.jpg
END:VEVENT
END:VCALENDAR